BEGIN:VCALENDAR
VERSION:2.0
PRODID:-//Massey Air Museum, 33541 Maryland Line Road, Massey, MD, 21650 - ECPv6.15.20//NONSGML v1.0//EN
CALSCALE:GREGORIAN
METHOD:PUBLISH
X-WR-CALNAME:Massey Air Museum, 33541 Maryland Line Road, Massey, MD, 21650
X-ORIGINAL-URL:https://masseyaero.org
X-WR-CALDESC:Events for Massey Air Museum, 33541 Maryland Line Road, Massey, MD, 21650
REFRESH-INTERVAL;VALUE=DURATION:PT1H
X-Robots-Tag:noindex
X-PUBLISHED-TTL:PT1H
BEGIN:VTIMEZONE
TZID:UTC
BEGIN:STANDARD
TZOFFSETFROM:+0000
TZOFFSETTO:+0000
TZNAME:UTC
DTSTART:20150101T000000
END:STANDARD
END:VTIMEZONE
BEGIN:VTIMEZONE
TZID:America/New_York
BEGIN:DAYLIGHT
TZOFFSETFROM:-0500
TZOFFSETTO:-0400
TZNAME:EDT
DTSTART:20160313T070000
END:DAYLIGHT
BEGIN:STANDARD
TZOFFSETFROM:-0400
TZOFFSETTO:-0500
TZNAME:EST
DTSTART:20161106T060000
END:STANDARD
BEGIN:DAYLIGHT
TZOFFSETFROM:-0500
TZOFFSETTO:-0400
TZNAME:EDT
DTSTART:20170312T070000
END:DAYLIGHT
BEGIN:STANDARD
TZOFFSETFROM:-0400
TZOFFSETTO:-0500
TZNAME:EST
DTSTART:20171105T060000
END:STANDARD
BEGIN:DAYLIGHT
TZOFFSETFROM:-0500
TZOFFSETTO:-0400
TZNAME:EDT
DTSTART:20180311T070000
END:DAYLIGHT
BEGIN:STANDARD
TZOFFSETFROM:-0400
TZOFFSETTO:-0500
TZNAME:EST
DTSTART:20181104T060000
END:STANDARD
END:VTIMEZONE
BEGIN:VEVENT
DTSTART;VALUE=DATE:20170720
DTEND;VALUE=DATE:20170724
DTSTAMP:20260423T175145
CREATED:20170515T211328Z
LAST-MODIFIED:20170515T214048Z
UID:760-1500508800-1500854399@masseyaero.org
SUMMARY:BIPLANE RIDES 2017
DESCRIPTION:(WEEKENDS – WEATHER PERMITTING) \nThe 2017 Flying season runs from May to October!  \n  July 7-9\,  July 20-23***\,  Aug 4-6\,   Sept. TBD\,  Oct. TBD. \nBiplane Air Tours will provide airplane rides in a 1944 Stearman open-cockpit biplane – Departing from Massey Aerodrome on selected weekends. $75 for 15 minutes\, $125 for 30 minutes\, $220 for 60 minutes. Reservations preferred but walk-ins are welcome. See the website for more information. Phone: 410-535-4136. Email Reservations: Flyingfun@biplaneairtours.com \nNOTES ON AVAILABILITY: \n*** (NO rides available before 2 PM on July 22nd)
URL:https://masseyaero.org/event/biplane-rides-2017/
LOCATION:Massey Aerodrome\, 33541 Maryland Line Rd.\, Massey\, MD\, 21650\, United States
ATTACH;FMTTYPE=image/jpeg:https://masseyaero.org/wp-content/uploads/2017/05/N75NM-Publicity-Photo-DSC0529.jpg
ORGANIZER;CN="Nick Mirales":MAILTO:njmirales@comcast.net
END:VEVENT
BEGIN:VEVENT
DTSTART;VALUE=DATE:20170707
DTEND;VALUE=DATE:20170710
DTSTAMP:20260423T175145
CREATED:20170501T232117Z
LAST-MODIFIED:20170515T211128Z
UID:706-1499385600-1499644799@masseyaero.org
SUMMARY:BIPLANE RIDES 2017
DESCRIPTION:(WEEKENDS – WEATHER PERMITTING) \nThe 2017 Flying season runs from May to October! \n  June 9-11\,  June 16-18**\,  July 7-9\,   \nJuly 20-23*** \,  Aug 4-6\, Sept. TBD\, Oct. TBD. \nBiplane Air Tours will provide airplane rides in a 1944 Stearman open-cockpit biplane – Departing from Massey Aerodrome on selected weekends. $75 for 15 minutes\, $125 for 30 minutes\, $220 for 60 minutes. Reservations preferred but walk-ins are welcome. See the website for more information. Phone: 410-535-4136. Email Reservations: Flyingfun@biplaneairtours.com \nNOTES ON AVAILABILITY: \n** (NO rides during the Antique Fly-In on the June 17th) \n*** (NO rides available before 2 PM on July 22nd)
URL:https://masseyaero.org/event/biplane-rides-2017-weekends-weather-permitting-2/
LOCATION:Massey Aerodrome\, 33541 Maryland Line Rd.\, Massey\, MD\, 21650\, United States
ATTACH;FMTTYPE=image/jpeg:https://masseyaero.org/wp-content/uploads/2017/05/N75NM-Publicity-Photo-DSC0529.jpg
ORGANIZER;CN="Nick Mirales":MAILTO:njmirales@comcast.net
END:VEVENT
BEGIN:VEVENT
DTSTART;TZID=UTC:20170617T090000
DTEND;TZID=UTC:20170617T160000
DTSTAMP:20260423T175145
CREATED:20170124T183929Z
LAST-MODIFIED:20170506T130930Z
UID:494-1497690000-1497715200@masseyaero.org
SUMMARY:46th ANTIQUE FLY-IN (former Horn Point Fly-In)
DESCRIPTION:June 17 (Sat.) {Raindate Sun. June 18}: “46th ANTIQUE FLY-IN” \nThe Potomac Antique Aero Squadron (PAAS) will hold it’s 46th Antique Airplane Fly-In at Massey Aerodrome. This is the second year that the former Horn Point Antique Fly-In will be held at Massey. This is an Antique Airplane Assoc. (AAA) judged event. Times: 7:00 AM – 4:00 PM with judging until 2:00 PM\, food & drinks available on field.  Registration begins 9:00 AM @ $15.00 per aircraft. Judging Begins @ 9:30 AM. Judging Ends @ 2:00 PM. Awards Presentation @ 4:00 PM. No admission or landing fees – (donations to help PAAS continue the Antique Fly-in are appreciated). Fly-in and General Public drive-in guests are welcome\, No Admission or Parking charge. The Airport and Museum are open\, family friendly and handicap accessible (on grass). Antique and Show cars are invited for non-judged display (If you have a motorcycle\, vintage car or hot rod\, come early\, park up front around the DC-3 for everyone to see & admire). PAAS Fly-In Director: Mike Strieter  301-440-5294. Email: strieterstinson@verizon.net   VOLUNTEERS WANTED!  This is your chance to get involved with Aviation.        \nJudging Categories & Awards: \n2 Antique Aircraft (pre 1946): Grand Champion & Sweepstakes \n2 Classic Aircraft (1/46 – 12/55): Grand Champion & Sweepstakes \n1 Contemporary Aircraft (1/56-12/70): Grand Champion \n2 Military Aircraft (thru 1955): Grand Champion & Sweepstakes \n1 Customized Aircraft (Military or Civilian): Best Customized Aircraft \n1 Custom-Built Aircraft: Best Custom-Built Aircraft \n2 special Awards: PAAS Presidents Choice & AAA Club Award
URL:https://masseyaero.org/event/46th-antique-fly-in-former-horn-point-antique-fly-in/
LOCATION:Massey Aerodrome\, 33541 Maryland Line Rd.\, Massey\, MD\, 21650\, United States
CATEGORIES:Massey Event
END:VEVENT
BEGIN:VEVENT
DTSTART;VALUE=DATE:20170616
DTEND;VALUE=DATE:20170619
DTSTAMP:20260423T175145
CREATED:20170515T210252Z
LAST-MODIFIED:20170515T211028Z
UID:753-1497571200-1497830399@masseyaero.org
SUMMARY:BIPLANE RIDES 2017
DESCRIPTION:(WEEKENDS – WEATHER PERMITTING) \nThe 2017 Flying season runs from May to October!  \n  June 9-11\,  June 16-18**\,  July 7-9\,   \nJuly 20-23***\,  Aug 4-6\,  Sept. TBD\, Oct. TBD. \nBiplane Air Tours will provide airplane rides in a 1944 Stearman open-cockpit biplane – Departing from Massey Aerodrome on selected weekends. $75 for 15 minutes\, $125 for 30 minutes\, $220 for 60 minutes. Reservations preferred but walk-ins are welcome. See the website for more information. Phone: 410-535-4136. Email Reservations: Flyingfun@biplaneairtours.com \nNOTES ON AVAILABILITY: \n** (NO rides during the Antique Fly-In on the June 17th) \n*** (NO rides available before 2 PM on July 22nd)
URL:https://masseyaero.org/event/biplane-rides-2017-weekends-weather-permitting-3/
LOCATION:Massey Aerodrome\, 33541 Maryland Line Rd.\, Massey\, MD\, 21650\, United States
ATTACH;FMTTYPE=image/jpeg:https://masseyaero.org/wp-content/uploads/2017/05/N75NM-Publicity-Photo-DSC0529.jpg
ORGANIZER;CN="Nick Mirales":MAILTO:njmirales@comcast.net
END:VEVENT
BEGIN:VEVENT
DTSTART;VALUE=DATE:20170609
DTEND;VALUE=DATE:20170612
DTSTAMP:20260423T175145
CREATED:20170501T230803Z
LAST-MODIFIED:20170515T213722Z
UID:699-1496966400-1497225599@masseyaero.org
SUMMARY:BIPLANE RIDES 2017
DESCRIPTION:(WEEKENDS – WEATHER PERMITTING) \nThe 2017 Flying season runs from May to October!   \n  June 9-11\,  June 16-18**\,  July 7-9\,   \nJuly 20-23***\,  Aug 4-6\,  Sept. TBD\, Oct. TBD. \nBiplane Air Tours will provide airplane rides in a 1944 Stearman open-cockpit biplane – Departing from Massey Aerodrome on selected weekends. $75 for 15 minutes\, $125 for 30 minutes\, $220 for 60 minutes. Reservations preferred but walk-ins are welcome. See the website for more information. Phone: 410-535-4136.                                                  Email Reservations: Flyingfun@biplaneairtours.com \nNOTES ON AVAILABILITY: \n** (NO rides during the Antique Fly-In on the June 17th) \n*** (NO rides available before 2 PM on July 22nd)
URL:https://masseyaero.org/event/biplane-rides-2017-weekends-weather-permitting/
LOCATION:Massey Aerodrome\, 33541 Maryland Line Rd.\, Massey\, MD\, 21650\, United States
ATTACH;FMTTYPE=image/jpeg:https://masseyaero.org/wp-content/uploads/2017/05/N75NM-Publicity-Photo-DSC0529.jpg
ORGANIZER;CN="Nick Mirales":MAILTO:njmirales@comcast.net
END:VEVENT
BEGIN:VEVENT
DTSTART;TZID=UTC:20170513T110000
DTEND;TZID=UTC:20170513T150000
DTSTAMP:20260423T175145
CREATED:20170124T175557Z
LAST-MODIFIED:20170403T220418Z
UID:477-1494673200-1494687600@masseyaero.org
SUMMARY:2017 Chili Fiesta Fly-in
DESCRIPTION:May 13 (Sat): Chili Fiesta Fly-in \nFly in\, Drive in\, with your best chili recipe and/or covered dish\, dessert item (optional). This annual event attracts local towns folk\, and if weather permits\, a large contingent of interesting flying machines. Festivities begin at 11 AM and go until 3 PM (Food Served at Noon). Renew old friendships and discover what everybody’s been working on all winter. General Public Invited! No Admission or Parking charge. The Airport & Museum are open\, family friendly and handicap accessible (on grass). Antique and Show cars are invited for non-judged display (If you have a motorcycle\, vintage car or hot rod\, come early\, park up front around the DC-3 for everyone to see & admire). See last year’s story here: http://www.masseyaero.org  > (Latest News) 2016 Chili Fiesta Fly-in or click this link: http://www.masseyaero.org/news/Chili2016.html              Photo Library Album Link: https://www.flickr.com/photos/massey_aero/albums/72157668338634461
URL:https://masseyaero.org/event/chili-fiesta-fly-in/
LOCATION:Massey Aerodrome\, 33541 Maryland Line Rd.\, Massey\, MD\, 21650\, United States
CATEGORIES:Massey Event
END:VEVENT
BEGIN:VEVENT
DTSTART;TZID=UTC:20170506T100000
DTEND;TZID=UTC:20170506T160000
DTSTAMP:20260423T175145
CREATED:20170427T213405Z
LAST-MODIFIED:20170501T233909Z
UID:682-1494064800-1494086400@masseyaero.org
SUMMARY:Driving Tour of the Museums of Kent County
DESCRIPTION:OPEN HOUSE – MUSEUMS OF KENT COUNTY \nExplore Kent’s Eastern Shore History\, Culture and Lifestyles. \nBROCHURES WITH MAPS available at Kent Library\, Visitor Center in Chestertown\, Rock Hall Town Hall and museums listed. \nDriving Tour of the Museums of Kent County: Historical Society of Kent County at the Bordley History Center\, Sumner Hall\, Massey Air Museum; Kent Museum (agriculture\, rural heritage); Knock’s Folly Visitor Center (farming\, native American Tockwogh tribe); Betterton Heritage Museum (fishing and old recreation resorts); African American Schoolhouse; Cliffs School Museum; Rock Hall Museum; Tolchester Beach Revisited Museum\, Rock Hall Waterman’s Museum and Rock Hall Marine Restoration and Heritage Center. \nLink to Map & Addresses of museums: https://www.kentcounty.com/attractions/museums \nLooking for things to do in Maryland? You might like this Blog Posting:  JEN REVIEWS: 100 Best Things to do in Maryland  https://www.jenreviews.com/best-things-to-do-in-maryland/ \nIt’s a detailed\, up-to-date 7\,000 word guide on the 100 best things to do in Maryland and is packed with detailed tips and advice.
URL:https://masseyaero.org/event/driving-tour-of-the-museums-of-kent-county/
LOCATION:Massey Aerodrome\, 33541 Maryland Line Rd.\, Massey\, MD\, 21650\, United States
CATEGORIES:Outside Organization
ATTACH;FMTTYPE=image/png:https://masseyaero.org/wp-content/uploads/2017/04/Kent-Co-MD-logo.png
END:VEVENT
BEGIN:VEVENT
DTSTART;VALUE=DATE:20170506
DTEND;VALUE=DATE:20170515
DTSTAMP:20260423T175145
CREATED:20170501T224422Z
LAST-MODIFIED:20170506T130419Z
UID:691-1494028800-1494806399@masseyaero.org
SUMMARY:BIPLANE RIDES 2017
DESCRIPTION:(WEEKENDS – WEATHER PERMITTING) \nThe 2017 Flying season begins on Saturday May 6 – until Fall !   \nMay 6-7\,  May 12-14*\,  June 9-11\,  June 16-18**\,  July 7-9\,   \nJuly 20-23***\,  Aug 4-6\,  Sept. TBD\,  Oct. TBD. \nBiplane Air Tours will provide airplane rides in a 1944 Stearman open-cockpit biplane – Departing from Massey Aerodrome on selected weekends. $70 for 15 minutes\, $120 for 30 minutes\, $210 for 60 minutes. Reservations preferred but walk-ins are welcome. See the website for more information. Phone: 410-535-4136.                                                  Email Reservations: Flyingfun@biplaneairtours.com \nNOTES ON  AVAILABILITY:  \n *(NO rides during the Chili Fly-In on the May 13th) \n** (NO rides during the Antique Fly-In on the June 17th) \n*** (NO rides available before 2 PM on July 22nd)
URL:https://masseyaero.org/event/biplane-rides-weekends-weather-permitting/
LOCATION:Massey Aerodrome\, 33541 Maryland Line Rd.\, Massey\, MD\, 21650\, United States
ATTACH;FMTTYPE=image/jpeg:https://masseyaero.org/wp-content/uploads/2017/05/N75NM-Publicity-Photo-DSC0529.jpg
ORGANIZER;CN="Nick Mirales":MAILTO:njmirales@comcast.net
END:VEVENT
BEGIN:VEVENT
DTSTART;TZID=America/New_York:20170118T110000
DTEND;TZID=America/New_York:20170118T143000
DTSTAMP:20260423T175145
CREATED:20161229T220520Z
LAST-MODIFIED:20161229T220520Z
UID:419-1484737200-1484749800@masseyaero.org
SUMMARY:Massey Air Museum Annual Meeting
DESCRIPTION:Wednesday Jan. 18\, 2017 at 1 P.M.  Annual Massey Air Museum Board Meeting open to all Members. Please contact the Museum to confirm attendance. EMAIL: email@masseyaero.org  PHONE: 410-928-5270.
URL:https://masseyaero.org/event/massey-air-museum-annual-meeting/
LOCATION:Massey Aerodrome\, 33541 Maryland Line Rd.\, Massey\, MD\, 21650\, United States
END:VEVENT
BEGIN:VEVENT
DTSTART;TZID=UTC:20161204T120000
DTEND;TZID=UTC:20161204T160000
DTSTAMP:20260423T175145
CREATED:20160905T125617Z
LAST-MODIFIED:20161203T150606Z
UID:263-1480852800-1480867200@masseyaero.org
SUMMARY:Open Hangar Party\, 2016
DESCRIPTION:This is our annual Christmas Party for the community and flying friends. Friends bring hors d’oeuvres and the airport supplies the main course and hot cider. This is always a rain or shine event\, drive or fly\, from about 11:00PM to 3:00PM (Food served at Noon). As always\, keep an eye out for “no-radio” aircraft. Usually\, we use Runway 02 for arrival on event days\, winds permitting. See story and photos of the 2015 Hangar Party.
URL:https://masseyaero.org/event/open-hangar-party-2016/
LOCATION:MD
ATTACH;FMTTYPE=image/jpeg:https://masseyaero.org/wp-content/uploads/Events/General/hangar0.jpg
END:VEVENT
BEGIN:VEVENT
DTSTART;TZID=UTC:20161007T120000
DTEND;TZID=UTC:20161010T170000
DTSTAMP:20260423T175145
CREATED:20160912T003620Z
LAST-MODIFIED:20160912T013619Z
UID:297-1475841600-1476118800@masseyaero.org
SUMMARY:Biplane Rides\, 2016.10.7
DESCRIPTION:Biplane Air Tours will provide airplane rides in a 1944 Stearman open-cockpit biplane. $70 for 15 minutes\, $120 for 30 minutes\, $210 for 60 minutes. Reservations preferred but walk-ins are welcome. See the website for more information. Phone: 410-535-4136.
URL:https://masseyaero.org/event/biplane-rides-2016-10-7/
LOCATION:MD
ATTACH;FMTTYPE=image/jpeg:https://masseyaero.org/wp-content/uploads/Events/General/stearmanyellow.jpg
ORGANIZER;CN="Nick Mirales":MAILTO:njmirales@comcast.net
END:VEVENT
BEGIN:VEVENT
DTSTART;TZID=UTC:20161007T120000
DTEND;TZID=UTC:20161010T120000
DTSTAMP:20260423T175145
CREATED:20160906T144648Z
LAST-MODIFIED:20160912T013003Z
UID:275-1475841600-1476100800@masseyaero.org
SUMMARY:Vintage Sailplane Rally\, 2016
DESCRIPTION:The Vintage Sailplane Association (VSA) will hold their annual East Coast Sailplane meet at Massey over the Columbus Day weekend. Gliders from the 30’s through the 60’s are invited for a four day weekend of flying and hangar stories. Glider rides and biplane rides will be available (prices vary)\, with a portion of the fee being donated to the museum. See www.vintagesailplane.org. See video from 2015 event by WBOC TV: “Outdoors Delmarva” tour of Massey and Vintage Sailplane weekend: (YouTube Video)
URL:https://masseyaero.org/event/vintage-sailplane-rally-2016/
LOCATION:MD
CATEGORIES:Outside Organization
ATTACH;FMTTYPE=image/png:https://masseyaero.org/wp-content/uploads/Events/General/VSA-Logo.png
END:VEVENT
BEGIN:VEVENT
DTSTART;TZID=UTC:20161002T090000
DTEND;TZID=UTC:20161002T170000
DTSTAMP:20260423T175145
CREATED:20160912T003452Z
LAST-MODIFIED:20160912T013653Z
UID:295-1475398800-1475427600@masseyaero.org
SUMMARY:Biplane Rides\, 2016.10.2
DESCRIPTION:Biplane Air Tours will provide airplane rides in a 1944 Stearman open-cockpit biplane. $70 for 15 minutes\, $120 for 30 minutes\, $210 for 60 minutes. Reservations preferred but walk-ins are welcome. See the website for more information. Phone: 410-535-4136.
URL:https://masseyaero.org/event/biplane-rides-2016-10-2/
LOCATION:MD
ATTACH;FMTTYPE=image/jpeg:https://masseyaero.org/wp-content/uploads/Events/General/stearmanyellow.jpg
ORGANIZER;CN="Nick Mirales":MAILTO:njmirales@comcast.net
END:VEVENT
BEGIN:VEVENT
DTSTART;TZID=UTC:20160930T090000
DTEND;TZID=UTC:20160930T170000
DTSTAMP:20260423T175145
CREATED:20160912T003311Z
LAST-MODIFIED:20160912T013707Z
UID:293-1475226000-1475254800@masseyaero.org
SUMMARY:Biplane Rides\, 2016.9.30
DESCRIPTION:Biplane Air Tours will provide airplane rides in a 1944 Stearman open-cockpit biplane. $70 for 15 minutes\, $120 for 30 minutes\, $210 for 60 minutes. Reservations preferred but walk-ins are welcome. See the website for more information. Phone: 410-535-4136.
URL:https://masseyaero.org/event/biplane-rides-2016-9-30/
LOCATION:MD
CATEGORIES:Biplane Rides
ATTACH;FMTTYPE=image/jpeg:https://masseyaero.org/wp-content/uploads/Events/General/stearmanyellow.jpg
ORGANIZER;CN="Nick Mirales":MAILTO:njmirales@comcast.net
END:VEVENT
END:VCALENDAR