BEGIN:VCALENDAR
VERSION:2.0
PRODID:-//Massey Air Museum, 33541 Maryland Line Road, Massey, MD, 21650 - ECPv6.15.20//NONSGML v1.0//EN
CALSCALE:GREGORIAN
METHOD:PUBLISH
X-WR-CALNAME:Massey Air Museum, 33541 Maryland Line Road, Massey, MD, 21650
X-ORIGINAL-URL:https://masseyaero.org
X-WR-CALDESC:Events for Massey Air Museum, 33541 Maryland Line Road, Massey, MD, 21650
REFRESH-INTERVAL;VALUE=DURATION:PT1H
X-Robots-Tag:noindex
X-PUBLISHED-TTL:PT1H
BEGIN:VTIMEZONE
TZID:UTC
BEGIN:STANDARD
TZOFFSETFROM:+0000
TZOFFSETTO:+0000
TZNAME:UTC
DTSTART:20240101T000000
END:STANDARD
END:VTIMEZONE
BEGIN:VEVENT
DTSTART;TZID=UTC:20251102T100000
DTEND;TZID=UTC:20251102T140000
DTSTAMP:20260426T023318
CREATED:20230929T225206Z
LAST-MODIFIED:20250704T163003Z
UID:4603-1762077600-1762092000@masseyaero.org
SUMMARY:GALENA LIONS CLUB CAR SHOW
DESCRIPTION:GALENA LIONS CLUB CAR SHOW 2025 (First Sunday of November) NOVEMBER 2nd: 10 AM – 2 PM {Rain Date – Sunday Nov. 9} \n(This is not a “fly-in” per se but flying guests & general public are invited to attend – Free Admission.) Car Registration: 10 AM to 12 Noon with Judging from 12 to 1:30 PM. Awards: 2 PM. Entry Fee for Show Cars: $20.00 (No Admission charge for General Public). The Galena Lions Club annual Judged Car Show is at Massey Aerodrome (no longer at Turner’s Field). Refreshments sold to benefit The Galena Lions Club. We’re looking forward to upwards of 200 show cars on view. Massey Aerodrome is family friendly and handicap accessible (on grass). THE AIRPORT WILL REMAIN OPEN AS USUAL FOR OUR FLYING VISITORS. \n——————————————————————————————— \nAWARDS: Presidents Trophy & Top Ten Plaque Awards\, Dash Plaques to first 50 Vehicles. Door Prizes\, 50/50\, Chinese Auction\, D.J. Music\, Food & Beverages. \nThis event benefits the Galena Lions Club Charities & Massey Air Museum. Additional Info: Call 410-708-4889 or 410-678-5251. \n \n 
URL:https://masseyaero.org/event/galena-lions-club-car-show/
LOCATION:Massey Aerodrome\, 33541 Maryland Line Rd.\, Massey\, MD\, 21650\, United States
ATTACH;FMTTYPE=image/jpeg:https://masseyaero.org/wp-content/uploads/2023/09/1Model-T-Stearman-.jpg
END:VEVENT
BEGIN:VEVENT
DTSTART;TZID=UTC:20251207T100000
DTEND;TZID=UTC:20251207T140000
DTSTAMP:20260426T023318
CREATED:20230309T143203Z
LAST-MODIFIED:20250704T163722Z
UID:4395-1765101600-1765116000@masseyaero.org
SUMMARY:Massey Open Hangar Party & Fly-In 2025
DESCRIPTION:Massey Open Hangar Party & Fly-In on Sunday December 7\, 2025 from 10 A.M. to 2 P.M.  Come to our Annual Open Hangar Party\, Rain or Shine! — Fly in or Drive in. Help us celebrate our progress and new projects. Friends can bring a covered dish or dessert item (optional) and the airport supplies the main course\, cider\, lemonade & coffee. If the weather cooperates\, you will be able to watch the field fill up with over 100 fly-in guests\, expect to see interesting airplanes. There’s always plenty of food\, so renew old friendships & meet others who love aviation. Tour the Air Museum\, hangars\, DC-3 & An-2 biplane. If you have a motorcycle\, vintage car or hot rod\, come early\, park up front around the DC-3 for everyone to see & admire. General Public Invited! Children Welcome. Free Admission. FOOD IS SERVED AT NOON. Remember it’s on the FIRST SUNDAY of December! Pilots: As always\, keep an eye out for “no-radio” aircraft. Winds permitting\, Runway 02 is the preferred arrival approach on event days\, if not – we have widened the west side “Back Taxi” lane. Check for VIP TFRs – We do have a Cut-Out from the south if there is a TFR.\nEvent Calendar Link: https://masseyaero.org/event/massey-open-hangar-party-fly-in/\nMassey Air Museum Home Page Link: https://masseyaero.org/\nMassey Photo Library Album Contents Link: https://www.flickr.com/photos/massey_aero/albums \nKurt Grasso takes off in “Grassocat” – Fly in at Massey Aerodrome – Photo by Edwin Remsberg.\nMassey Aerodrome Air Field. Photo by Edwin Remsberg.
URL:https://masseyaero.org/event/massey-open-hangar-party-fly-in-2/
LOCATION:Massey Aerodrome\, 33541 Maryland Line Rd.\, Massey\, MD\, 21650\, United States
CATEGORIES:Massey Event
ATTACH;FMTTYPE=image/jpeg:https://masseyaero.org/wp-content/uploads/2022/02/1-Pietenpol-row.jpg
ORGANIZER;CN="Massey Air Museum":MAILTO:email@masseyaero.org
END:VEVENT
BEGIN:VEVENT
DTSTART;TZID=UTC:20260509T100000
DTEND;TZID=UTC:20260509T140000
DTSTAMP:20260426T023318
CREATED:20230209T180801Z
LAST-MODIFIED:20260309T221930Z
UID:4364-1778320800-1778335200@masseyaero.org
SUMMARY:22nd CHILI FIESTA FLY-IN 2026
DESCRIPTION:22nd Chili Fiesta Fly-in on Saturday May 9th\, 2026 \nFly in or Drive in\, we welcome you to share your favorite chili recipe or covered dish (optional\, not mandatory). This annual event attracts local town folk and\, if weather permits\, a large contingent of interesting flying machines. Festivities begin around 10 AM and go until 2 PM. Renew old friendships and discover what everybody’s been working on all winter. General Public Invited! No Admission or Parking charge. The Airport\, Air Museum & hangars are open. Massey is family friendly and handicap accessible (on grass). Antique and Show cars are invited for non-judged display (If you have a motorcycle\, vintage car or hot rod\, come early\, park up front around the DC-3 for everyone to see & admire).    \nPilots: As always\, keep an eye out for no-radio aircraft. Winds permitting\, Runway 02 is the preferred arrival approach on event days\, if not\, the west side Back Taxi lane allows passage off-the-runway. Check for VIP TFRs. No Rain Date. \n \nPhoto by Dennis Maroulas\n \nPhoto by Dennis Maroulas
URL:https://masseyaero.org/event/19th-chili-fiesta-fly-in-2023/
LOCATION:Massey Aerodrome\, 33541 Maryland Line Rd.\, Massey\, MD\, 21650\, United States
ORGANIZER;CN="Massey Air Museum":MAILTO:email@masseyaero.org
END:VEVENT
BEGIN:VEVENT
DTSTART;TZID=UTC:20260620T100000
DTEND;TZID=UTC:20260620T140000
DTSTAMP:20260426T023318
CREATED:20230308T232751Z
LAST-MODIFIED:20260302T154503Z
UID:4388-1781949600-1781964000@masseyaero.org
SUMMARY:ANTIQUE AIRPLANE FLY-IN 2026
DESCRIPTION:The Antique Airplane Fly-In will be held on Saturday June 20th\, 2026 from 10:00 am – 2 pm. It is conducted by the Massey Air Museum. This is the only Antique Airplane Assoc. (AAA) Judged event in our region. The General Public and aviation fans are invited to attend. Last year\, sunny skies attracted  84 antique\, classic\, biplanes\, taildraggers\, and general aviation aircraft to enjoy Grassroots Aviation. Hear the unique sound of radial engines. Tour the Massey Air Museum\, DC-3\, An-2 & hangars\, excellent photo & viewing area overlooking the runway where you can watch the planes land and take off. Free Admission. Family Friendly. Experience “Grassroots Aviation” when tail wheels were king.\nThe Millington Volunteer Fire Co. will be selling refreshments – hot dogs and hamburgers.\nPilots: As always\, keep an eye out for no-radio aircraft. Winds permitting\, Runway 02 is the preferred arrival approach on event days; if not\, the west side Back Taxi lane allows passage off the runway. No Rain Date. \nJUDGING CATEGORIES & AWARDS —- \nAntique Aircraft (Manufactured prior to 1946)\nMilitary Aircraft (Thru 1955)\nCustomized Aircraft (Military or Civilian)\nCustom-Built Aircraft\nClassic Aircraft (Jan. 1946 thru Dec. 1955)\nContemporary Aircraft (Jan. 1956 thru Dec. 1970)\nMassey Choice Award\nAntique Airplane Assoc. Award \n 
URL:https://masseyaero.org/event/51st-antique-airplane-fly-in/
LOCATION:Massey Aerodrome\, 33541 Maryland Line Rd.\, Massey\, MD\, 21650\, United States
ORGANIZER;CN="Massey Air Museum":MAILTO:email@masseyaero.org
END:VEVENT
END:VCALENDAR