BEGIN:VCALENDAR
VERSION:2.0
PRODID:-//Massey Air Museum, 33541 Maryland Line Road, Massey, MD, 21650 - ECPv6.15.20//NONSGML v1.0//EN
CALSCALE:GREGORIAN
METHOD:PUBLISH
X-ORIGINAL-URL:https://masseyaero.org
X-WR-CALDESC:Events for Massey Air Museum, 33541 Maryland Line Road, Massey, MD, 21650
REFRESH-INTERVAL;VALUE=DURATION:PT1H
X-Robots-Tag:noindex
X-PUBLISHED-TTL:PT1H
BEGIN:VTIMEZONE
TZID:UTC
BEGIN:STANDARD
TZOFFSETFROM:+0000
TZOFFSETTO:+0000
TZNAME:UTC
DTSTART:20210101T000000
END:STANDARD
END:VTIMEZONE
BEGIN:VEVENT
DTSTART;TZID=UTC:20220921T110000
DTEND;TZID=UTC:20220921T150000
DTSTAMP:20260425T225446
CREATED:20220802T161934Z
LAST-MODIFIED:20220802T164140Z
UID:3896-1663758000-1663772400@masseyaero.org
SUMMARY:United Flying Octogenarians Fly-In
DESCRIPTION:Massey Aerodrome and Air Museum is very pleased to welcome United Flying Octogenarians (UFOs) to Massey for a Fly-In\, lunch and meeting on Wednesday September 21st\, 2022 at 11 AM. See Announcement below for more information and directions (fly-in & drive-in). Note: Rain date is following day (Thursday Sept. 22). \nThe meeting is hosted by John Chirtea (Milton\, DE) who has been flying into Massey since the early days of the airport. See photo of John’s latest (3rd) Ercoupe below. Register with John Chirtea @ trainster@aol.com \n  \n \n \n  \nJohn Chirtea and his daughter\, Heather – departing Antique Fly-In at Massey Aerodrome.\n  \nMassey Air Field
URL:https://masseyaero.org/event/united-flying-octogenarians-fly-in/
LOCATION:MD
CATEGORIES:Massey Event
ATTACH;FMTTYPE=image/jpeg:https://masseyaero.org/wp-content/uploads/2022/08/LoRes-remsberg_Massey-Drone-f-view-SE-scaled.jpg
ORGANIZER;CN="United Flying Octogenarians":MAILTO:trainster@aol.com
END:VEVENT
END:VCALENDAR