BEGIN:VCALENDAR
VERSION:2.0
PRODID:-//Massey Air Museum, 33541 Maryland Line Road, Massey, MD, 21650 - ECPv6.15.20//NONSGML v1.0//EN
CALSCALE:GREGORIAN
METHOD:PUBLISH
X-WR-CALNAME:Massey Air Museum, 33541 Maryland Line Road, Massey, MD, 21650
X-ORIGINAL-URL:https://masseyaero.org
X-WR-CALDESC:Events for Massey Air Museum, 33541 Maryland Line Road, Massey, MD, 21650
REFRESH-INTERVAL;VALUE=DURATION:PT1H
X-Robots-Tag:noindex
X-PUBLISHED-TTL:PT1H
BEGIN:VTIMEZONE
TZID:UTC
BEGIN:STANDARD
TZOFFSETFROM:+0000
TZOFFSETTO:+0000
TZNAME:UTC
DTSTART:20210101T000000
END:STANDARD
END:VTIMEZONE
BEGIN:VEVENT
DTSTART;TZID=UTC:20220611T090000
DTEND;TZID=UTC:20220611T150000
DTSTAMP:20260426T022916
CREATED:20171223T144352Z
LAST-MODIFIED:20220512T211851Z
UID:1183-1654938000-1654959600@masseyaero.org
SUMMARY:50th Antique Fly-In – Potomac Antique Aero Squadron (PAAS)
DESCRIPTION:50th Antique Fly-In – Conducted by the Potomac Antique Aero Squadron (PAAS)\, hosted by the Massey Air Museum. Saturday June 11th\, 2022 (Second Saturday of June): Field open to Antique Airplanes starting at 7 AM. All aircraft welcome starting at 9 AM (General Public from 10 AM to 3 PM) (NO Raindate). \nLink to PAAS Flyer (poster) with Schedule & Judging Categories / Awards:  https://www.harpyr.com/PAAS/2022_Flyer_1_Page.pdf/  \nLink to Potomac Antique Aero Squadron website: http://www.paasflyin.info  \nThis is the sixth year that the former Horn Point Antique Fly-In will be held at Massey. This is an Antique Airplane Association (AAA) judged event: Registration for Judging begins @ 9:00 AM.  Judging Begins @ 9:30 AM. Judging Ends @ 2:00 PM.  Awards Presentation @ 4:00 PM.  No admission or landing fees – (donations to help PAAS continue the Antique Fly-in are appreciated). Fly-in and General Public drive-in guests are welcome\, No Admission or Parking charge. The Airport and Museum are open\, family friendly and handicap accessible (on grass). Antique and Show cars are invited for non-judged display (If you have a motorcycle\, vintage car or hot rod\, come early\, park up front around the DC-3 for everyone to see & admire). PAAS Fly-In Director: Mike Strieter Email: strieterstinson@verizon.net   VOLUNTEERS WANTED!  This is your chance to get involved with Aviation (Contact  Mike Strieter above). \nAOPA Pilot magazine covered last years 49th Antique Fly-In at Massey Aerodrome – Link:  https://www.aopa.org/news-and-media/all-news/2021/september/pilot/happy-place    OR  view the article here (in Massey’s Photo Library):  https://www.flickr.com/photos/massey_aero/albums/72157719732160357″>  \nView photos of last years 49th Antique Fly-In at Massey Aerodrome here:\n https://www.flickr.com/photos/massey_aero/albums/72157719588421422″>  \nLink to Past Flicker Antique Fly-In Photos:  https://www.flickr.com/search/?text=Potomac%20Antique%20Aero%20Squadron  \nPotomac Antique Aero Squad 49th annual Fly in At Massey Aerodrome (Edwin Remsberg photo)\n  \n  \n \nN147KG “GrassoCat” Photo by Dennis Maroulas \n \nBücker formation take-off. Photo by Dennis Maroulas \n \nBücker formation fly-by. Photo by Dennis Maroulas \n \n \n \n 
URL:https://masseyaero.org/event/47th-antique-fly-in/
LOCATION:Massey Aerodrome\, 33541 Maryland Line Rd.\, Massey\, MD\, 21650\, United States
CATEGORIES:Massey Event
ORGANIZER;CN="Potomac Antique Aero Squadron":MAILTO:strieterstinson@verizon.net
END:VEVENT
END:VCALENDAR