BEGIN:VCALENDAR
VERSION:2.0
PRODID:-//Massey Air Museum, 33541 Maryland Line Road, Massey, MD, 21650 - ECPv6.15.20//NONSGML v1.0//EN
CALSCALE:GREGORIAN
METHOD:PUBLISH
X-ORIGINAL-URL:https://masseyaero.org
X-WR-CALDESC:Events for Massey Air Museum, 33541 Maryland Line Road, Massey, MD, 21650
REFRESH-INTERVAL;VALUE=DURATION:PT1H
X-Robots-Tag:noindex
X-PUBLISHED-TTL:PT1H
BEGIN:VTIMEZONE
TZID:UTC
BEGIN:STANDARD
TZOFFSETFROM:+0000
TZOFFSETTO:+0000
TZNAME:UTC
DTSTART:20150101T000000
END:STANDARD
END:VTIMEZONE
BEGIN:VEVENT
DTSTART;VALUE=DATE:20181007
DTEND;VALUE=DATE:20181008
DTSTAMP:20260423T183952
CREATED:20180615T193013Z
LAST-MODIFIED:20180915T153942Z
UID:1897-1538870400-1538956799@masseyaero.org
SUMMARY:BIPLANE RIDES 2018 (WEATHER PERMITTING)
DESCRIPTION:The 2018 Biplane Flying Season ends October 15. \nOct. 7 \nBiplane Air Tours will provide airplane rides in a 1944 Stearman open-cockpit biplane. $75 for 15 minutes\, $120 for 30 minutes\, $220 for 60 minutes. Reservations preferred but walk-ins are welcome. For more information see the Website: www.biplaneairtours.com   Contact Nick Mirales @ 410-535-4136 or Email: Flyingfun@biplaneairtours.com \n 
URL:https://masseyaero.org/event/biplane-rides-2018-weather-permitting-7/
LOCATION:Massey Aerodrome\, 33541 Maryland Line Rd.\, Massey\, MD\, 21650\, United States
CATEGORIES:Biplane Rides
ATTACH;FMTTYPE=image/jpeg:https://masseyaero.org/wp-content/uploads/2017/12/N75NM-STEARMAN-MAS_8111.jpg
ORGANIZER;CN="Nick Mirales":MAILTO:njmirales@comcast.net
END:VEVENT
BEGIN:VEVENT
DTSTART;VALUE=DATE:20181003
DTEND;VALUE=DATE:20181004
DTSTAMP:20260423T183952
CREATED:20180615T194153Z
LAST-MODIFIED:20181002T213942Z
UID:1902-1538524800-1538611199@masseyaero.org
SUMMARY:BIPLANE RIDES 2018 (WEATHER PERMITTING)
DESCRIPTION:The 2018 Biplane Flying Season ends October 15. \nWednesday  Oct. 3  \nSunday Oct. 7 \nBiplane Air Tours will provide airplane rides in a 1944 Stearman open-cockpit biplane. $75 for 15 minutes\, $120 for 30 minutes\, $220 for 60 minutes. Reservations preferred but walk-ins are welcome. For more information see the Website: www.biplaneairtours.com   Contact Nick Mirales @ 410-535-4136 or Email: Flyingfun@biplaneairtours.com
URL:https://masseyaero.org/event/biplane-rides-2018-weather-permitting-8/
LOCATION:Massey Aerodrome\, 33541 Maryland Line Rd.\, Massey\, MD\, 21650\, United States
CATEGORIES:Biplane Rides
ATTACH;FMTTYPE=image/jpeg:https://masseyaero.org/wp-content/uploads/2017/12/N75NM-STEARMAN-MAS_8111.jpg
ORGANIZER;CN="Nick Mirales":MAILTO:njmirales@comcast.net
END:VEVENT
BEGIN:VEVENT
DTSTART;VALUE=DATE:20180803
DTEND;VALUE=DATE:20180806
DTSTAMP:20260423T183952
CREATED:20180615T192504Z
LAST-MODIFIED:20180615T193752Z
UID:1894-1533254400-1533513599@masseyaero.org
SUMMARY:BIPLANE RIDES 2018 (WEATHER PERMITTING)
DESCRIPTION:The 2018 Biplane Flying Season runs from May to October. \nAugust 3-5 \nSept. 14-16\,  \nOct. 5 \nOct. 7-15 \nBiplane Air Tours will provide airplane rides in a 1944 Stearman open-cockpit biplane. $75 for 15 minutes\, $120 for 30 minutes\, $220 for 60 minutes. Reservations preferred but walk-ins are welcome. For more information see the Website: www.biplaneairtours.com   Contact Nick Mirales @ 410-535-4136 or Email: Flyingfun@biplaneairtours.com \n 
URL:https://masseyaero.org/event/biplane-rides-2018-weather-permitting-4/
LOCATION:Massey Aerodrome\, 33541 Maryland Line Rd.\, Massey\, MD\, 21650\, United States
CATEGORIES:Biplane Rides
ATTACH;FMTTYPE=image/jpeg:https://masseyaero.org/wp-content/uploads/2017/12/N75NM-STEARMAN-MAS_8111.jpg
ORGANIZER;CN="Nick Mirales":MAILTO:njmirales@comcast.net
END:VEVENT
BEGIN:VEVENT
DTSTART;VALUE=DATE:20180716
DTEND;VALUE=DATE:20180723
DTSTAMP:20260423T183952
CREATED:20180514T193133Z
LAST-MODIFIED:20180618T180806Z
UID:1808-1531699200-1532303999@masseyaero.org
SUMMARY:BIPLANE RIDES 2018 (WEATHER PERMITTING)
DESCRIPTION:The 2018 Biplane Flying Season runs from May to October. \nJul 16-22 (Limited Availability during the Biplane Fly-In on Sat. the 21st)\,  \nAugust 3-5 \nSept. 14-16\,  \nOct. 5 \nOct. 7-15 \nBiplane Air Tours will provide airplane rides in a 1944 Stearman open-cockpit biplane. $75 for 15 minutes\, $120 for 30 minutes\, $220 for 60 minutes. Reservations preferred but walk-ins are welcome. For more information see the Website: www.biplaneairtours.com   Contact Nick Mirales @ 410-535-4136 or Email: Flyingfun@biplaneairtours.com \n 
URL:https://masseyaero.org/event/biplane-rides-2018-weather-permitting-3/
LOCATION:Massey Aerodrome\, 33541 Maryland Line Rd.\, Massey\, MD\, 21650\, United States
CATEGORIES:Biplane Rides
ORGANIZER;CN="Nick Mirales":MAILTO:njmirales@comcast.net
END:VEVENT
BEGIN:VEVENT
DTSTART;VALUE=DATE:20180706
DTEND;VALUE=DATE:20180709
DTSTAMP:20260423T183952
CREATED:20180615T191909Z
LAST-MODIFIED:20180615T193145Z
UID:1892-1530835200-1531094399@masseyaero.org
SUMMARY:BIPLANE RIDES 2018 (WEATHER PERMITTING)
DESCRIPTION:The 2018 Flying Season runs from May to October. \nJuly 6-8\,  \nJul 16-22 (Limited Availability during the Biplane Fly-In on the 21st)\,  \nAugust 3-5 \nSept. 14-16\,  \nOct. 5 \nOct. 7-15 \nBiplane Air Tours will provide airplane rides in a 1944 Stearman open-cockpit biplane. $75 for 15 minutes\, $120 for 30 minutes\, $220 for 60 minutes. Reservations preferred but walk-ins are welcome. For more information see the Website: www.biplaneairtours.com   Contact Nick Mirales @ 410-535-4136 or Email: Flyingfun@biplaneairtours.com
URL:https://masseyaero.org/event/biplane-rides-2018-weather-permitting-6/
LOCATION:Massey Aerodrome\, 33541 Maryland Line Rd.\, Massey\, MD\, 21650\, United States
CATEGORIES:Biplane Rides
ATTACH;FMTTYPE=image/jpeg:https://masseyaero.org/wp-content/uploads/2017/12/N75NM-STEARMAN-MAS_8111.jpg
ORGANIZER;CN="Nick Mirales":MAILTO:njmirales@comcast.net
END:VEVENT
BEGIN:VEVENT
DTSTART;TZID=UTC:20171008T080000
DTEND;TZID=UTC:20171015T170000
DTSTAMP:20260423T183952
CREATED:20170808T162026Z
LAST-MODIFIED:20170808T162222Z
UID:821-1507449600-1508086800@masseyaero.org
SUMMARY:BIPLANE RIDES 2017
DESCRIPTION:(SELECTED WEEKENDS – WEATHER PERMITTING) \nThe 2017 Flying season runs from May to October!  \n Oct. 8 – 15 (Last Week of the Season) \nBiplane Air Tours will provide airplane rides in a 1944 Stearman open-cockpit biplane – Departing from Massey Aerodrome on selected weekends. $75 for 15 minutes\, $120 for 30 minutes\, $220 for 60 minutes. Reservations preferred but walk-ins are welcome. See the website for more information. Phone: 410-535-4136. Email Reservations: Flyingfun@biplaneairtours.com
URL:https://masseyaero.org/event/biplane-rides-2017-3/
LOCATION:Massey Aerodrome\, 33541 Maryland Line Rd.\, Massey\, MD\, 21650\, United States
CATEGORIES:Biplane Rides
ATTACH;FMTTYPE=image/jpeg:https://masseyaero.org/wp-content/uploads/2017/05/N75NM-Publicity-Photo-DSC0529.jpg
ORGANIZER;CN="Nick Mirales":MAILTO:njmirales@comcast.net
END:VEVENT
BEGIN:VEVENT
DTSTART;TZID=UTC:20170908T080000
DTEND;TZID=UTC:20170910T170000
DTSTAMP:20260423T183952
CREATED:20170808T161501Z
LAST-MODIFIED:20170808T161642Z
UID:818-1504857600-1505062800@masseyaero.org
SUMMARY:BIPLANE RIDES 2017
DESCRIPTION:(SELECTED WEEKENDS – WEATHER PERMITTING) \nThe 2017 Flying season runs from May to October!  \nSept. 8 – 10  &  Oct. 8 – 15 \nBiplane Air Tours will provide airplane rides in a 1944 Stearman open-cockpit biplane – Departing from Massey Aerodrome on selected weekends. $75 for 15 minutes\, $120 for 30 minutes\, $220 for 60 minutes. Reservations preferred but walk-ins are welcome. See the website for more information. Phone: 410-535-4136. Email Reservations: Flyingfun@biplaneairtours.com
URL:https://masseyaero.org/event/biplane-rides-2017-2/
LOCATION:Massey Aerodrome\, 33541 Maryland Line Rd.\, Massey\, MD\, 21650\, United States
CATEGORIES:Biplane Rides
ATTACH;FMTTYPE=image/jpeg:https://masseyaero.org/wp-content/uploads/2017/05/N75NM-Publicity-Photo-DSC0529.jpg
ORGANIZER;CN="Nick Mirales":MAILTO:njmirales@comcast.net
END:VEVENT
BEGIN:VEVENT
DTSTART;VALUE=DATE:20170811
DTEND;VALUE=DATE:20170814
DTSTAMP:20260423T183952
CREATED:20170501T232837Z
LAST-MODIFIED:20170808T160954Z
UID:711-1502409600-1502668799@masseyaero.org
SUMMARY:BIPLANE RIDES 2017
DESCRIPTION:(SELECTED WEEKENDS – WEATHER PERMITTING) \nThe 2017 Flying season runs from May to October!  \n  Aug 11\, 12 & 13\,   Sept. 8 – 10  &  Oct. 8 – 15. \nBiplane Air Tours will provide airplane rides in a 1944 Stearman open-cockpit biplane – Departing from Massey Aerodrome on selected weekends. $75 for 15 minutes\, $120 for 30 minutes\, $220 for 60 minutes. Reservations preferred but walk-ins are welcome. See the website for more information. Phone: 410-535-4136. Email Reservations: Flyingfun@biplaneairtours.com \n 
URL:https://masseyaero.org/event/biplane-rides-2017-weekends-weather-permittingthe-2017-flying-season-begins-on-saturday-may-6-until-fall-may-6-7-may-12-14-june-9-11-june-16-18-july-7-9-july-20-23/
LOCATION:Massey Aerodrome\, 33541 Maryland Line Rd.\, Massey\, MD\, 21650\, United States
CATEGORIES:Biplane Rides
ATTACH;FMTTYPE=image/jpeg:https://masseyaero.org/wp-content/uploads/2017/05/N75NM-Publicity-Photo-DSC0529.jpg
ORGANIZER;CN="Nick Mirales":MAILTO:njmirales@comcast.net
END:VEVENT
BEGIN:VEVENT
DTSTART;TZID=UTC:20160930T090000
DTEND;TZID=UTC:20160930T170000
DTSTAMP:20260423T183952
CREATED:20160912T003311Z
LAST-MODIFIED:20160912T013707Z
UID:293-1475226000-1475254800@masseyaero.org
SUMMARY:Biplane Rides\, 2016.9.30
DESCRIPTION:Biplane Air Tours will provide airplane rides in a 1944 Stearman open-cockpit biplane. $70 for 15 minutes\, $120 for 30 minutes\, $210 for 60 minutes. Reservations preferred but walk-ins are welcome. See the website for more information. Phone: 410-535-4136.
URL:https://masseyaero.org/event/biplane-rides-2016-9-30/
LOCATION:MD
CATEGORIES:Biplane Rides
ATTACH;FMTTYPE=image/jpeg:https://masseyaero.org/wp-content/uploads/Events/General/stearmanyellow.jpg
ORGANIZER;CN="Nick Mirales":MAILTO:njmirales@comcast.net
END:VEVENT
END:VCALENDAR